BEGIN:VCALENDAR
VERSION:2.0
PRODID:-//Studio Mathilde - ECPv6.15.20//NONSGML v1.0//EN
CALSCALE:GREGORIAN
METHOD:PUBLISH
X-WR-CALNAME:Studio Mathilde
X-ORIGINAL-URL:https://studiomathilde.be
X-WR-CALDESC:Evenementen voor Studio Mathilde
REFRESH-INTERVAL;VALUE=DURATION:PT1H
X-Robots-Tag:noindex
X-PUBLISHED-TTL:PT1H
BEGIN:VTIMEZONE
TZID:Europe/Brussels
BEGIN:DAYLIGHT
TZOFFSETFROM:+0100
TZOFFSETTO:+0200
TZNAME:CEST
DTSTART:20200329T010000
END:DAYLIGHT
BEGIN:STANDARD
TZOFFSETFROM:+0200
TZOFFSETTO:+0100
TZNAME:CET
DTSTART:20201025T010000
END:STANDARD
BEGIN:DAYLIGHT
TZOFFSETFROM:+0100
TZOFFSETTO:+0200
TZNAME:CEST
DTSTART:20210328T010000
END:DAYLIGHT
BEGIN:STANDARD
TZOFFSETFROM:+0200
TZOFFSETTO:+0100
TZNAME:CET
DTSTART:20211031T010000
END:STANDARD
BEGIN:DAYLIGHT
TZOFFSETFROM:+0100
TZOFFSETTO:+0200
TZNAME:CEST
DTSTART:20220327T010000
END:DAYLIGHT
BEGIN:STANDARD
TZOFFSETFROM:+0200
TZOFFSETTO:+0100
TZNAME:CET
DTSTART:20221030T010000
END:STANDARD
END:VTIMEZONE
BEGIN:VEVENT
DTSTART;TZID=Europe/Brussels:20210526T130000
DTEND;TZID=Europe/Brussels:20210526T170000
DTSTAMP:20260420T033852
CREATED:20210503T091744Z
LAST-MODIFIED:20210504T152554Z
UID:2590-1622034000-1622048400@studiomathilde.be
SUMMARY:Basistechnieken breien op een Brother breimachine
DESCRIPTION:Hier kan je je plaats reserveren voor de workshop.
URL:https://studiomathilde.be/event/basistechnieken-breien-op-een-brother-breimachine-2/
LOCATION:Studio Mathilde\, Tabakvest 53\, Antwerpen\, Antwerpen\, 2000\, België
CATEGORIES:BASIS BROTHER
END:VEVENT
BEGIN:VEVENT
DTSTART;TZID=Europe/Brussels:20210523T130000
DTEND;TZID=Europe/Brussels:20210523T170000
DTSTAMP:20260420T033852
CREATED:20210428T145315Z
LAST-MODIFIED:20210504T152637Z
UID:2587-1621774800-1621789200@studiomathilde.be
SUMMARY:Basistechnieken breien op een Brother breimachine
DESCRIPTION:Hier kan je je plaats reserveren voor de workshop.
URL:https://studiomathilde.be/event/basistechnieken-breien-op-een-brother-breimachine/
LOCATION:Studio Mathilde\, Tabakvest 53\, Antwerpen\, Antwerpen\, 2000\, België
CATEGORIES:BASIS BROTHER
END:VEVENT
BEGIN:VEVENT
DTSTART;TZID=Europe/Brussels:20210522T130000
DTEND;TZID=Europe/Brussels:20210522T170000
DTSTAMP:20260420T033852
CREATED:20210428T144722Z
LAST-MODIFIED:20210504T152753Z
UID:2581-1621688400-1621702800@studiomathilde.be
SUMMARY:Basistechnieken breien op een Brother breimachine
DESCRIPTION:Hier kan je je plaats reserveren voor de workshop.
URL:https://studiomathilde.be/event/basistechnieken-breien-op-een-brother-breimachine-6/
LOCATION:Studio Mathilde\, Tabakvest 53\, Antwerpen\, Antwerpen\, 2000\, België
CATEGORIES:BASIS BROTHER
END:VEVENT
END:VCALENDAR