BEGIN:VCALENDAR
VERSION:2.0
PRODID:-//Studio Mathilde - ECPv6.15.20//NONSGML v1.0//EN
CALSCALE:GREGORIAN
METHOD:PUBLISH
X-WR-CALNAME:Studio Mathilde
X-ORIGINAL-URL:https://studiomathilde.be
X-WR-CALDESC:Evenementen voor Studio Mathilde
REFRESH-INTERVAL;VALUE=DURATION:PT1H
X-Robots-Tag:noindex
X-PUBLISHED-TTL:PT1H
BEGIN:VTIMEZONE
TZID:Europe/Brussels
BEGIN:DAYLIGHT
TZOFFSETFROM:+0100
TZOFFSETTO:+0200
TZNAME:CEST
DTSTART:20200329T010000
END:DAYLIGHT
BEGIN:STANDARD
TZOFFSETFROM:+0200
TZOFFSETTO:+0100
TZNAME:CET
DTSTART:20201025T010000
END:STANDARD
BEGIN:DAYLIGHT
TZOFFSETFROM:+0100
TZOFFSETTO:+0200
TZNAME:CEST
DTSTART:20210328T010000
END:DAYLIGHT
BEGIN:STANDARD
TZOFFSETFROM:+0200
TZOFFSETTO:+0100
TZNAME:CET
DTSTART:20211031T010000
END:STANDARD
BEGIN:DAYLIGHT
TZOFFSETFROM:+0100
TZOFFSETTO:+0200
TZNAME:CEST
DTSTART:20220327T010000
END:DAYLIGHT
BEGIN:STANDARD
TZOFFSETFROM:+0200
TZOFFSETTO:+0100
TZNAME:CET
DTSTART:20221030T010000
END:STANDARD
END:VTIMEZONE
BEGIN:VEVENT
DTSTART;TZID=Europe/Brussels:20210825T130000
DTEND;TZID=Europe/Brussels:20210825T170000
DTSTAMP:20260420T030948
CREATED:20210526T160321Z
LAST-MODIFIED:20210526T160503Z
UID:2982-1629896400-1629910800@studiomathilde.be
SUMMARY:Geavanceerde technieken breien op een Brother breimachine
DESCRIPTION:Hier kan je je plaats reserveren voor de workshop.
URL:https://studiomathilde.be/event/geavanceerde-technieken-breien-op-een-brother-breimachine-4/
LOCATION:Studio Mathilde\, Tabakvest 53\, Antwerpen\, Antwerpen\, 2000\, België
CATEGORIES:GEAVANCEERD BROTHER
END:VEVENT
BEGIN:VEVENT
DTSTART;TZID=Europe/Brussels:20210804T130000
DTEND;TZID=Europe/Brussels:20210804T170000
DTSTAMP:20260420T030948
CREATED:20210518T151228Z
LAST-MODIFIED:20210518T151228Z
UID:2845-1628082000-1628096400@studiomathilde.be
SUMMARY:Geavanceerde technieken breien op een Brother breimachine
DESCRIPTION:Hier kan je je plaats reserveren voor de workshop.
URL:https://studiomathilde.be/event/geavanceerde-technieken-breien-op-een-brother-breimachine-3/
LOCATION:Studio Mathilde\, Tabakvest 53\, Antwerpen\, Antwerpen\, 2000\, België
CATEGORIES:GEAVANCEERD BROTHER
END:VEVENT
BEGIN:VEVENT
DTSTART;TZID=Europe/Brussels:20210713T130000
DTEND;TZID=Europe/Brussels:20210713T170000
DTSTAMP:20260420T030948
CREATED:20210518T150722Z
LAST-MODIFIED:20210518T150753Z
UID:2835-1626181200-1626195600@studiomathilde.be
SUMMARY:Geavanceerde technieken breien op een Brother breimachine
DESCRIPTION:Hier kan je je plaats reserveren voor de workshop.
URL:https://studiomathilde.be/event/geavanceerde-technieken-breien-op-een-brother-breimachine-2/
LOCATION:Studio Mathilde\, Tabakvest 53\, Antwerpen\, Antwerpen\, 2000\, België
CATEGORIES:GEAVANCEERD BROTHER
END:VEVENT
BEGIN:VEVENT
DTSTART;TZID=Europe/Brussels:20210615T180000
DTEND;TZID=Europe/Brussels:20210615T220000
DTSTAMP:20260420T030948
CREATED:20210518T145507Z
LAST-MODIFIED:20210518T150447Z
UID:2824-1623780000-1623794400@studiomathilde.be
SUMMARY:Geavanceerde technieken breien op een Brother breimachine
DESCRIPTION:Hier kan je je plaats reserveren voor de workshop.
URL:https://studiomathilde.be/event/geavanceerde-technieken-breien-op-een-brother-breimachine/
LOCATION:Studio Mathilde\, Tabakvest 53\, Antwerpen\, Antwerpen\, 2000\, België
CATEGORIES:GEAVANCEERD BROTHER
END:VEVENT
END:VCALENDAR