BEGIN:VCALENDAR
VERSION:2.0
PRODID:-//Studio Mathilde - ECPv6.15.20//NONSGML v1.0//EN
CALSCALE:GREGORIAN
METHOD:PUBLISH
X-ORIGINAL-URL:https://studiomathilde.be
X-WR-CALDESC:Evenementen voor Studio Mathilde
REFRESH-INTERVAL;VALUE=DURATION:PT1H
X-Robots-Tag:noindex
X-PUBLISHED-TTL:PT1H
BEGIN:VTIMEZONE
TZID:Europe/Brussels
BEGIN:DAYLIGHT
TZOFFSETFROM:+0100
TZOFFSETTO:+0200
TZNAME:CEST
DTSTART:20200329T010000
END:DAYLIGHT
BEGIN:STANDARD
TZOFFSETFROM:+0200
TZOFFSETTO:+0100
TZNAME:CET
DTSTART:20201025T010000
END:STANDARD
BEGIN:DAYLIGHT
TZOFFSETFROM:+0100
TZOFFSETTO:+0200
TZNAME:CEST
DTSTART:20210328T010000
END:DAYLIGHT
BEGIN:STANDARD
TZOFFSETFROM:+0200
TZOFFSETTO:+0100
TZNAME:CET
DTSTART:20211031T010000
END:STANDARD
BEGIN:DAYLIGHT
TZOFFSETFROM:+0100
TZOFFSETTO:+0200
TZNAME:CEST
DTSTART:20220327T010000
END:DAYLIGHT
BEGIN:STANDARD
TZOFFSETFROM:+0200
TZOFFSETTO:+0100
TZNAME:CET
DTSTART:20221030T010000
END:STANDARD
BEGIN:DAYLIGHT
TZOFFSETFROM:+0100
TZOFFSETTO:+0200
TZNAME:CEST
DTSTART:20230326T010000
END:DAYLIGHT
BEGIN:STANDARD
TZOFFSETFROM:+0200
TZOFFSETTO:+0100
TZNAME:CET
DTSTART:20231029T010000
END:STANDARD
BEGIN:DAYLIGHT
TZOFFSETFROM:+0100
TZOFFSETTO:+0200
TZNAME:CEST
DTSTART:20240331T010000
END:DAYLIGHT
BEGIN:STANDARD
TZOFFSETFROM:+0200
TZOFFSETTO:+0100
TZNAME:CET
DTSTART:20241027T010000
END:STANDARD
END:VTIMEZONE
BEGIN:VEVENT
DTSTART;TZID=Europe/Brussels:20230325T100000
DTEND;TZID=Europe/Brussels:20230326T160000
DTSTAMP:20260420T003342
CREATED:20230125T111507Z
LAST-MODIFIED:20230125T112012Z
UID:4511-1679738400-1679846400@studiomathilde.be
SUMMARY:Tweedaagse cursus basistechnieken op een Passap breimachine
DESCRIPTION:Hier kan je je plaats reserveren voor de workshop.
URL:https://studiomathilde.be/event/tweedaagse-cursus-basistechnieken-op-een-passap-breimachine-25-26-maart/
LOCATION:Studio Mathilde\, Tabakvest 53\, Antwerpen\, Antwerpen\, 2000\, België
CATEGORIES:geavanceerd passap
END:VEVENT
BEGIN:VEVENT
DTSTART;TZID=Europe/Brussels:20221019T130000
DTEND;TZID=Europe/Brussels:20221019T170000
DTSTAMP:20260420T003342
CREATED:20220827T103308Z
LAST-MODIFIED:20220921T104750Z
UID:4202-1666184400-1666198800@studiomathilde.be
SUMMARY:Geavanceerde technieken breien op een Passap breimachine
DESCRIPTION:Hier kan je je plaats reserveren voor de workshop.
URL:https://studiomathilde.be/event/geavanceerde-technieken-breien-op-een-passap-breimachine-3/
LOCATION:Studio Mathilde\, Tabakvest 53\, Antwerpen\, Antwerpen\, 2000\, België
CATEGORIES:geavanceerd passap
END:VEVENT
BEGIN:VEVENT
DTSTART;TZID=Europe/Brussels:20220824T130000
DTEND;TZID=Europe/Brussels:20220824T170000
DTSTAMP:20260420T003342
CREATED:20220427T124459Z
LAST-MODIFIED:20220601T074538Z
UID:3972-1661346000-1661360400@studiomathilde.be
SUMMARY:Geavanceerde technieken breien op een Passap breimachine
DESCRIPTION:Hier kan je je plaats reserveren voor de workshop.
URL:https://studiomathilde.be/event/geavanceerde-technieken-breien-op-een-passap-breimachine-24-8-2022/
LOCATION:Studio Mathilde\, Tabakvest 53\, Antwerpen\, Antwerpen\, 2000\, België
CATEGORIES:geavanceerd passap
END:VEVENT
BEGIN:VEVENT
DTSTART;TZID=Europe/Brussels:20211214T130000
DTEND;TZID=Europe/Brussels:20211214T170000
DTSTAMP:20260420T003342
CREATED:20210817T143857Z
LAST-MODIFIED:20210817T143857Z
UID:3170-1639486800-1639501200@studiomathilde.be
SUMMARY:Geavanceerde technieken breien op een Passap breimachine
DESCRIPTION:Hier kan je je plaats reserveren voor de workshop.
URL:https://studiomathilde.be/event/geavanceerde-technieken-breien-op-een-passap-breimachine-14-december-2021/
LOCATION:Studio Mathilde\, Tabakvest 53\, Antwerpen\, Antwerpen\, 2000\, België
CATEGORIES:geavanceerd passap
END:VEVENT
BEGIN:VEVENT
DTSTART;TZID=Europe/Brussels:20211106T130000
DTEND;TZID=Europe/Brussels:20211106T170000
DTSTAMP:20260420T003342
CREATED:20210817T143413Z
LAST-MODIFIED:20210817T143547Z
UID:3161-1636203600-1636218000@studiomathilde.be
SUMMARY:Geavanceerde technieken breien op een Passap breimachine
DESCRIPTION:Hier kan je je plaats reserveren voor de workshop.
URL:https://studiomathilde.be/event/geavanceerde-technieken-breien-op-een-passap-breimachine-6-november-2021/
LOCATION:Studio Mathilde\, Tabakvest 53\, Antwerpen\, Antwerpen\, 2000\, België
CATEGORIES:geavanceerd passap
END:VEVENT
BEGIN:VEVENT
DTSTART;TZID=Europe/Brussels:20210810T180000
DTEND;TZID=Europe/Brussels:20210810T220000
DTSTAMP:20260420T003342
CREATED:20210518T161429Z
LAST-MODIFIED:20210529T094021Z
UID:2917-1628618400-1628632800@studiomathilde.be
SUMMARY:Geavanceerde technieken breien op een Passap breimachine
DESCRIPTION:Hier kan je je plaats reserveren voor de workshop.
URL:https://studiomathilde.be/event/geavanceerde-technieken-breien-op-een-passap-breimachine-2/
LOCATION:Studio Mathilde\, Tabakvest 53\, Antwerpen\, Antwerpen\, 2000\, België
CATEGORIES:geavanceerd passap
END:VEVENT
BEGIN:VEVENT
DTSTART;TZID=Europe/Brussels:20210707T130000
DTEND;TZID=Europe/Brussels:20210707T170000
DTSTAMP:20260420T003342
CREATED:20210518T161202Z
LAST-MODIFIED:20210529T093835Z
UID:2911-1625662800-1625677200@studiomathilde.be
SUMMARY:Geavanceerde technieken breien op een Passap breimachine
DESCRIPTION:Hier kan je je plaats reserveren voor de workshop.
URL:https://studiomathilde.be/event/geavanceerde-technieken-breien-op-een-passap-breimachine/
LOCATION:Studio Mathilde\, Tabakvest 53\, Antwerpen\, Antwerpen\, 2000\, België
CATEGORIES:geavanceerd passap
END:VEVENT
BEGIN:VEVENT
DTSTART;TZID=Europe/Brussels:20210620T130000
DTEND;TZID=Europe/Brussels:20210620T170000
DTSTAMP:20260420T003342
CREATED:20210518T160931Z
LAST-MODIFIED:20210518T160931Z
UID:2905-1624194000-1624208400@studiomathilde.be
SUMMARY:Geavanceerde technieken breien op een Passap breimachine
DESCRIPTION:Hier kan je je plaats reserveren voor de workshop.
URL:https://studiomathilde.be/event/geavanceerder-technieken-breien-op-een-passap-breimachine/
LOCATION:Studio Mathilde\, Tabakvest 53\, Antwerpen\, Antwerpen\, 2000\, België
CATEGORIES:geavanceerd passap
END:VEVENT
END:VCALENDAR